BEGIN:VCALENDAR
PRODID:-//DLRG e.V.//DLRG Termine iCal 1.0d//DE
VERSION:2.0
CALSCALE:GREGORIAN
METHOD:PUBLISH
X-WR-CALNAME:DLRG 
X-WR-TIMEZONE:Europe/Berlin
X-WR-CALDESC:DLRG \niCal Kalender mit Terminen
BEGIN:VEVENT
DTSTART:20260117T080000Z
DTEND:20260117T150000Z
DTSTAMP:20260422T122316Z
UID:4045531-ical.1221000.dlrg
CREATED:20260420T220000Z
DESCRIPTION:\n\nKategorie: Einsatz\nVeranstalter:  DLRG Lübeck
CATEGORIES:Einsatz
LAST-MODIFIED:20260421T220000Z
LOCATION:Geschäftsstelle | Vereinsheim\nHerreninsel | Hauptweg 2\n23568 Lübeck
SEQUENCE:0
STATUS:CONFIRMED
SUMMARY:Arbeiten in der Technik
TRANSP:TRANSPARENT
END:VEVENT
BEGIN:VEVENT
DTSTART:20260131T080000Z
DTEND:20260131T150000Z
DTSTAMP:20260422T122316Z
UID:4045534-ical.1221000.dlrg
CREATED:20260420T220000Z
DESCRIPTION:\n\nKategorie: Einsatz\nVeranstalter:  DLRG Lübeck
CATEGORIES:Einsatz
LAST-MODIFIED:20260421T220000Z
LOCATION:Geschäftsstelle | Vereinsheim\nHerreninsel | Hauptweg 2\n23568 Lübeck
SEQUENCE:0
STATUS:CONFIRMED
SUMMARY:Arbeiten in der Technik
TRANSP:TRANSPARENT
END:VEVENT
BEGIN:VEVENT
DTSTART:20260208T080000Z
DTEND:20260208T160000Z
DTSTAMP:20260422T122316Z
UID:4329981-ical.1221000.dlrg
CREATED:20260420T220000Z
DESCRIPTION:\n\nKategorie: Sanitätswesen\nVeranstalter:  DLRG Lübeck
CATEGORIES:Sanitätswesen
LAST-MODIFIED:20260421T220000Z
LOCATION:Geschäftsstelle | Vereinsheim\nHerreninsel | Hauptweg 2\n23568 Lübeck
SEQUENCE:0
STATUS:CONFIRMED
SUMMARY:Erste-Hilfe-Ausbildung
TRANSP:TRANSPARENT
END:VEVENT
BEGIN:VEVENT
DTSTART:20260214T080000Z
DTEND:20260214T150000Z
DTSTAMP:20260422T122316Z
UID:4045535-ical.1221000.dlrg
CREATED:20260420T220000Z
DESCRIPTION:\n\nKategorie: Einsatz\nVeranstalter:  DLRG Lübeck
CATEGORIES:Einsatz
LAST-MODIFIED:20260421T220000Z
LOCATION:Geschäftsstelle | Vereinsheim\nHerreninsel | Hauptweg 2\n23568 Lübeck
SEQUENCE:0
STATUS:CONFIRMED
SUMMARY:Arbeiten in der Technik
TRANSP:TRANSPARENT
END:VEVENT
BEGIN:VEVENT
DTSTART:20260228T080000Z
DTEND:20260228T150000Z
DTSTAMP:20260422T122316Z
UID:4045536-ical.1221000.dlrg
CREATED:20260420T220000Z
DESCRIPTION:\n\nKategorie: Einsatz\nVeranstalter:  DLRG Lübeck
CATEGORIES:Einsatz
LAST-MODIFIED:20260421T220000Z
LOCATION:Geschäftsstelle | Vereinsheim\nHerreninsel | Hauptweg 2\n23568 Lübeck
SEQUENCE:0
STATUS:CONFIRMED
SUMMARY:Arbeiten in der Technik
TRANSP:TRANSPARENT
END:VEVENT
BEGIN:VEVENT
DTSTART:20260307T080000Z
DTEND:20260307T170000Z
DTSTAMP:20260422T122316Z
UID:4373581-ical.1221000.dlrg
CREATED:20260420T220000Z
DESCRIPTION:\n\nKategorie: Sanitätswesen\nVeranstalter:  DLRG Lübeck\nAutor: Lina Petersen, Peter Wesenberg
CATEGORIES:Sanitätswesen
LAST-MODIFIED:20260421T220000Z
LOCATION:Geschäftsstelle | Vereinsheim\nHerreninsel | Hauptweg 2\n23568 Lübeck
SEQUENCE:0
STATUS:CONFIRMED
SUMMARY:RUND-Aufbaukurs
TRANSP:TRANSPARENT
END:VEVENT
BEGIN:VEVENT
DTSTART:20260308T080000Z
DTEND:20260308T160000Z
DTSTAMP:20260422T122316Z
UID:4373582-ical.1221000.dlrg
CREATED:20260420T220000Z
DESCRIPTION:\n\nKategorie: Sanitätswesen\nVeranstalter:  DLRG Lübeck\nAutor: Lina Petersen, Peter Wesenberg
CATEGORIES:Sanitätswesen
LAST-MODIFIED:20260421T220000Z
LOCATION:Geschäftsstelle | Vereinsheim\nHerreninsel | Hauptweg 2\n23568 Lübeck
SEQUENCE:0
STATUS:CONFIRMED
SUMMARY:RUND-Aufbaukurs
TRANSP:TRANSPARENT
END:VEVENT
BEGIN:VEVENT
DTSTART:20260314T080000Z
DTEND:20260314T150000Z
DTSTAMP:20260422T122316Z
UID:4045537-ical.1221000.dlrg
CREATED:20260420T220000Z
DESCRIPTION:\n\nKategorie: Einsatz\nVeranstalter:  DLRG Lübeck
CATEGORIES:Einsatz
LAST-MODIFIED:20260421T220000Z
LOCATION:Geschäftsstelle | Vereinsheim\nHerreninsel | Hauptweg 2\n23568 Lübeck
SEQUENCE:0
STATUS:CONFIRMED
SUMMARY:Arbeiten in der Technik
TRANSP:TRANSPARENT
END:VEVENT
BEGIN:VEVENT
DTSTART:20260328T080000Z
DTEND:20260328T150000Z
DTSTAMP:20260422T122316Z
UID:4045538-ical.1221000.dlrg
CREATED:20260420T220000Z
DESCRIPTION:\n\nKategorie: Einsatz\nVeranstalter:  DLRG Lübeck
CATEGORIES:Einsatz
LAST-MODIFIED:20260421T220000Z
LOCATION:Geschäftsstelle | Vereinsheim\nHerreninsel | Hauptweg 2\n23568 Lübeck
SEQUENCE:0
STATUS:CONFIRMED
SUMMARY:Arbeiten in der Technik
TRANSP:TRANSPARENT
END:VEVENT
BEGIN:VEVENT
DTSTART:20260410T160000Z
DTEND:20260410T190000Z
DTSTAMP:20260422T122316Z
UID:4389592-ical.1221000.dlrg
CREATED:20260420T220000Z
DESCRIPTION:\n\nKategorie: Sanitätswesen\nVeranstalter:  DLRG Lübeck
CATEGORIES:Sanitätswesen
LAST-MODIFIED:20260421T220000Z
LOCATION:Geschäftsstelle | Vereinsheim\nHerreninsel | Hauptweg 2\n23568 Lübeck
SEQUENCE:0
STATUS:CONFIRMED
SUMMARY:Sanitätsausbildung A
TRANSP:TRANSPARENT
END:VEVENT
BEGIN:VEVENT
DTSTART:20260411T070000Z
DTEND:20260411T170000Z
DTSTAMP:20260422T122316Z
UID:4389593-ical.1221000.dlrg
CREATED:20260420T220000Z
DESCRIPTION:\n\nKategorie: Sanitätswesen\nVeranstalter:  DLRG Lübeck
CATEGORIES:Sanitätswesen
LAST-MODIFIED:20260421T220000Z
LOCATION:Geschäftsstelle | Vereinsheim\nHerreninsel | Hauptweg 2\n23568 Lübeck
SEQUENCE:0
STATUS:CONFIRMED
SUMMARY:Sanitätsausbildung A
TRANSP:TRANSPARENT
END:VEVENT
BEGIN:VEVENT
DTSTART:20260412T070000Z
DTEND:20260412T170000Z
DTSTAMP:20260422T122316Z
UID:4389594-ical.1221000.dlrg
CREATED:20260420T220000Z
DESCRIPTION:\n\nKategorie: Sanitätswesen\nVeranstalter:  DLRG Lübeck
CATEGORIES:Sanitätswesen
LAST-MODIFIED:20260421T220000Z
LOCATION:Geschäftsstelle | Vereinsheim\nHerreninsel | Hauptweg 2\n23568 Lübeck
SEQUENCE:0
STATUS:CONFIRMED
SUMMARY:Sanitätsausbildung A
TRANSP:TRANSPARENT
END:VEVENT
BEGIN:VEVENT
DTSTART:20260418T060000Z
DTEND:20260418T160000Z
DTSTAMP:20260422T122316Z
UID:4539402-ical.1221000.dlrg
CREATED:20260420T220000Z
DESCRIPTION:\n\nKategorie: Einsatz\nVeranstalter:  DLRG Lübeck
CATEGORIES:Einsatz
LAST-MODIFIED:20260421T220000Z
LOCATION:Geschäftsstelle | Vereinsheim\nHerreninsel | Hauptweg 2\n23568 Lübeck
SEQUENCE:0
STATUS:CONFIRMED
SUMMARY:Arbeiten auf dem Priwall
TRANSP:TRANSPARENT
END:VEVENT
BEGIN:VEVENT
DTSTART:20260425T070000Z
DTEND:20260425T170000Z
DTSTAMP:20260422T122316Z
UID:4389595-ical.1221000.dlrg
CREATED:20260420T220000Z
DESCRIPTION:\n\nKategorie: Sanitätswesen\nVeranstalter:  DLRG Lübeck
CATEGORIES:Sanitätswesen
LAST-MODIFIED:20260421T220000Z
LOCATION:Geschäftsstelle | Vereinsheim\nHerreninsel | Hauptweg 2\n23568 Lübeck
SEQUENCE:0
STATUS:CONFIRMED
SUMMARY:Sanitätsausbildung A
TRANSP:TRANSPARENT
END:VEVENT
BEGIN:VEVENT
DTSTART:20260426T070000Z
DTEND:20260426T170000Z
DTSTAMP:20260422T122316Z
UID:4389596-ical.1221000.dlrg
CREATED:20260420T220000Z
DESCRIPTION:\n\nKategorie: Sanitätswesen\nVeranstalter:  DLRG Lübeck
CATEGORIES:Sanitätswesen
LAST-MODIFIED:20260421T220000Z
LOCATION:Geschäftsstelle | Vereinsheim\nHerreninsel | Hauptweg 2\n23568 Lübeck
SEQUENCE:0
STATUS:CONFIRMED
SUMMARY:Sanitätsausbildung A
TRANSP:TRANSPARENT
END:VEVENT
BEGIN:VEVENT
DTSTART:20260502T070000Z
DTEND:20260502T170000Z
DTSTAMP:20260422T122316Z
UID:4389597-ical.1221000.dlrg
CREATED:20260420T220000Z
DESCRIPTION:\n\nKategorie: Sanitätswesen\nVeranstalter:  DLRG Lübeck
CATEGORIES:Sanitätswesen
LAST-MODIFIED:20260421T220000Z
LOCATION:Geschäftsstelle | Vereinsheim\nHerreninsel | Hauptweg 2\n23568 Lübeck
SEQUENCE:0
STATUS:CONFIRMED
SUMMARY:Sanitätsausbildung A
TRANSP:TRANSPARENT
END:VEVENT
BEGIN:VEVENT
DTSTART:20260503T070000Z
DTEND:20260503T170000Z
DTSTAMP:20260422T122316Z
UID:4389598-ical.1221000.dlrg
CREATED:20260420T220000Z
DESCRIPTION:\n\nKategorie: Sanitätswesen\nVeranstalter:  DLRG Lübeck
CATEGORIES:Sanitätswesen
LAST-MODIFIED:20260421T220000Z
LOCATION:Geschäftsstelle | Vereinsheim\nHerreninsel | Hauptweg 2\n23568 Lübeck
SEQUENCE:0
STATUS:CONFIRMED
SUMMARY:Sanitätsausbildung A
TRANSP:TRANSPARENT
END:VEVENT
END:VCALENDAR
